Workbook

Sheet 1
A2: 表 一： | B2: 按 行 業 分 類 統 計 新 組 成、修 章 及 解 散 公 司 之 數 目 及 資 本 額
B3: Nº E VALOR DO CAPITAL SOCIAL DAS SOCIEDADES CONSTITUÍDAS, ALTERADAS E DISSOLVIDAS, POR RAMO DE ACTIVIDADE
G5: =A60 -> 二零零零年第一季
G6: =A61 -> 1º T/2000
C8: 新組成公司 | E8: 修章公司 | G8: 解散公司
C9: SOCIEDADES CONSTITUÍDAS | E9: SOCIEDADES ALTERADAS | G9: SOCIEDADES DISSOLVIDAS
A10: 行業 | D10: 資本額 | F10: 資本額 | H10: 資本額
A11: RAMO DE ACTIVIDADE | C11: 數目 | D11: 千澳門元 | E11: 數目 | F11: 千澳門元 | G11: 數目 | H11: 千澳門元
A12: 澳門行業分類第一修訂版 | C12: nº | D12: CAPITAL | E12: nº | F12: CAPITAL | G12: nº | H12: CAPITAL
A13: C.A.M. REV. 1 | D13: SOCIAL | F13: SOCIAL | H13: SOCIAL
D14: 1 000 MOP | F14: 1 000 MOP | H14: 1 000 MOP
A15: 1 | C15: 2 | D15: 3 | E15: 4 | F15: 5 | G15: 6 | H15: 7
A17: 製造業 | C17: 13 | D17: 790 | E17: 26 | F17: 11495 | G17: 1 | H17: 25
A18: INDÚSTRIAS TRANSFORMADORAS
A20: 建築 | C20: 15 | D20: 1715 | E20: 21 | F20: 4590 | G20: 6 | H20: 1260
A21: CONSTRUÇÃO
A23: 批發及零售業；機動車、摩托車、個人及家庭物品的維修 | C23: 73 | D23: 7001 | E23: 53 | F23: 13435 | G23: 10 | H23: 840
A24: COMÉRCIO POR GROSSO E A RETALHO; REPARAÇÃO DE VEÍCULOS AUTOMÓVEIS, MOTOCICLOS E DE BENS DE USO PESSOAL E DOMÉSTICO
A26: 住宿、餐廳、酒樓及同類所 | C26: 5 | D26: 990 | E26: 11 | F26: 2490 | G26: 0 | H26: 0
A27: ALOJAMENTO, RESTAURANTES E SIMILARES
A29: 運輸、貯藏及通訊 | C29: 6 | D29: 575 | E29: 8 | F29: 4685 | G29: 0 | H29: 0
A30: TRANSPORTES, ARMAZENAGEM E COMUNICAÇÕES
A32: 金融業務 | C32: 7 | D32: 575 | E32: 4 | F32: 2025 | G32: 2 | H32: 20
A33: ACTIVIDADES FINANCEIRAS
A35: 不動產業務 | C35: 15 | D35: 1540 | E35: 34 | F35: 5888 | G35: 6 | H35: 1330
A36: ACTIVIDADES IMOBILIÁRIAS
A38: 資訊及其相關的業務 | C38: 8 | D38: 425 | E38: 1 | F38: 50 | G38: 0 | H38: 0
A39: ACTIVIDADES INFORMÁTICAS E CONEXAS
A41: 主要向企業提供的其他服務 | C41: 11 | D41: 1000 | E41: 5 | F41: 1650 | G41: 4 | H41: 260
A42: OUTRAS ACTIVIDADES DE SERVIÇOS PRESTADOS PRINCIPALMENTE ÀS EMPRESAS
A44: 教育、醫療衛生及社會福利 | C44: 2 | D44: 75 | E44: 0 | F44: 0 | G44: 0 | H44: 0
A45: EDUCAÇÃO, SAÚDE E ACÇÃO SOCIAL
A47: 衛生、清潔及同類工作 | C47: 1 | D47: 25 | E47: 2 | F47: 530 | G47: 0 | H47: 0
A48: SANEAMENTO, HIGIENE PÚBLICA E ACTIVIDADES SIMILARES
A50: 康樂、文化、體育活動及其他服務 | C50: 5 | D50: 1400 | E50: 3 | F50: 50200 | G50: 0 | H50: 0
A51: ACTIVIDADES RECREATIVAS, CULTURAIS E DESPORTIVAS E OUTRAS ACTIVIDADES DE SERVIÇOS
A53: 其他未列明業務
A54: OUTRAS ACTIVIDADES NÃO ESPECIFICADAS | C54: 0 | D54: 0 | E54: 0 | F54: 0 | G54: 0 | H54: 0
A57: 一九九九年第一季 | C57: 118 | D57: 16201 | E57: 146 | F57: 138522 | G57: 27 | H57: 4551
A58: 1º T/1999
...

Sheet 2
A2: 表 二： | B2: 按 資 本 額 級 別 統 計 新 組 成 、修 章 及 解 散 公 司 之 數 目 及 資 本 額
B3: Nº E VALOR DO CAPITAL SOCIAL DAS SOCIEDADES CONSTITUÍDAS, ALTERADAS E DISSOLVIDAS, POR ESCALÕES DE VALOR
G5: =A45 -> 二零零零年第一季
G6: =A46 -> 1º T/2000
C8: 新組成公司 | E8: 修章公司 | G8: 解散公司
A9: 資本額級別 | C9: SOCIEDADES CONSTITUÍDAS | E9: SOCIEDADES ALTERADAS | G9: SOCIEDADES DISSOLVIDAS
A10: 千澳門元 | D10: 資本額 | F10: 資本額 | H10: 資本額
A11: ESCALÕES DE VALOR | C11: 數目 | D11: 千澳門元 | E11: 數目 | F11: 千澳門元 | G11: 數目 | H11: 千澳門元
A12: 1 000 MOP | C12: nº | D12: CAPITAL | E12: nº | F12: CAPITAL | G12: nº | H12: CAPITAL
D13: SOCIAL | F13: SOCIAL | H13: SOCIAL
D14: 1 000 MOP | F14: 1 000 MOP | H14: 1 000 MOP
A16: 1 | C16: 2 | D16: 3 | E16: 4 | F16: 5 | G16: 6 | H16: 7
A18: 50 或以下 | C18: 97 | D18: 2958 | E18: 34 | F18: 1155 | G18: 10 | H18: 255
A19: ATÉ 50
A21: 50 以上至 100 | C21: 42 | D21: 4130 | E21: 72 | F21: 7008 | G21: 13 | H21: 1280
A22: DE MAIS DE 50 A 100
A24: 100 以上至 150 | C24: 2 | D24: 223 | E24: 2 | F24: 270 | G24: 1 | H24: 120
A25: DE MAIS DE 100 A 150
A27: 150 以上至 200 | C27: 5 | D27: 1000 | E27: 21 | F27: 4150 | G27: 1 | H27: 180
A28: DE MAIS DE 150 A 200
A30: 200 以上至 300 | C30: 6 | D30: 1660 | E30: 9 | F30: 2680 | G30: 1 | H30: 250
A31: DE MAIS DE 200 A 300
A33: 300 以上至 500 | C33: 5 | D33: 2360 | E33: 12 | F33: 5670 | G33: 2 | H33: 850
A34: DE MAIS DE 300 A 500
A36: 500 以上至 1,000 | C36: 4 | D36: 3780 | E36: 12 | F36: 11480 | G36: 1 | H36: 800
A37: DE MAIS DE 500 A 1 000
A39: 1,000 以上 | C39: 0 | D39: 0 | E39: 6 | F39: 64625 | G39: 0 | H39: 0
A40: MAIS DE 1 000
A42: 一九九九年第一季 | C42: 118 | D42: 16201 | E42: 146 | F42: 138522 | G42: 27 | H42: 4551
A43: 1º T/1999
A45: 二零零零年第一季 | C45: =SUM(C18:C39) -> 161 | D45: =SUM(D18:D39) -> 16111 | E45: =SUM(E18:E39) -> 168 | F45: =SUM(F18:F39) -> 97038 | G45: =SUM(G18:G39) -> 29 | H45: =SUM(H18:H39) -> 3735
A46: 1º T/2000
A48: 同期變動率 % | C48: =(C45/C42-1)*100 -> 36.440678 | D48: =(D45/D42-1)*100 -> -0.55552126 | E48: =(E45/E42-1)*100 -> 15.068493 | F48: =(F45/F42-1)*100 -> -29.94759 | G48: =(G45/G42-1)*100 -> 7.4074074 | H48: =(H45/H42-1)*100 -> -17.930125
A49: V.H. %

Sheet 3
A2: 表 三： | B2: 按 行 業 分 類 統 計 新 組 成 公 司 數 目、法 律 身 份、股 東 身 份 及 地 址
B3: Nº DE SOCIEDADES CONSTITUÍDAS SEGUNDO A NATUREZA JURÍDICA E Nº DE SÓCIOS SEGUNDO A NATUREZA JURÍDICA
B4: E RESIDÊNCIA OU SEDE, POR RAMO DE ACTIVIDADE
J6: =A62 -> 二零零零年第一季
J7: =A63 -> 1º T/2000
G9: 股東數目
D10: 法律身份 | G10: NÚMERO DE SÓCIOS
A11: 行業 | C11: 公司數目 | D11: NATUREZA JURÍDICA DA | G11: 股東身份 | I11: 股東地址
A12: RAMO DE ACTIVIDADE | C12: NÚMERO DE | D12: SOCIEDADE | G12: NATUREZA JURÍDICA | I12: RESIDÊNCIA OU SEDE DOS SÓCIOS
A13: 澳門行業分類第一修訂版 | C13: SOCIEDADES | G13: DOS SÓCIOS
A14: C.A.M. REV. 1 | D14: 股份有限 | J14: 中國內地
D15: 公司 | E15: 有限公司 | F15: 其他公司 | G15: 個人 | H15: 公司 | I15: 澳門 | J15: INTERIOR | K15: 香港特區 | L15: 其他
D16: SOCIEDADE | E16: SOCIEDADE | F16: OUTRA | G16: PESSOA | H16: SOCIEDADE | I16: MACAU | J16: DA | K16: RAEHK | L16: OUTRA
D17: ANÓNIMA | E17: POR QUOTAS | F17: SOCIEDADE | G17: SINGULAR | J17: CHINA
A18: 1 | C18: 2 | D18: 3 | E18: 4 | F18: 5 | G18: 6 | H18: 7 | I18: 8 | J18: 9 | K18: 10 | L18: 11 | N18: 若這行為-則正碓
A20: ='1'!A17 -> 製造業 | C20: 13 | D20: 0 | E20: 12 | F20: 1 | G20: 38 | H20: 1 | I20: 35 | J20: 1 | K20: 2 | L20: 1 | N20: =G20+H20-I20-J20-K20-L20 -> 0
A21: ='1'!A18 -> INDÚSTRIAS TRANSFORMADORAS
A23: ='1'!A20 -> 建築 | C23: 15 | D23: 0 | E23: 14 | F23: 1 | G23: 38 | H23: 3 | I23: 35 | J23: 4 | K23: 1 | L23: 1 | N23: =G23+H23-I23-J23-K23-L23 -> 0
A24: ='1'!A21 -> CONSTRUÇÃO
A26: ='1'!A23 -> 批發及零售業；機動車、摩托車、個人及家庭物品的維修 | C26: 73 | D26: 1 | E26: 67 | F26: 5 | G26: 193 | H26: 12 | I26: 169 | J26: 6 | K26: 14 | L26: 16 | N26: =G26+H26-I26-J26-K26-L26 -> 0
A27: ='1'!A24 -> COMÉRCIO POR GROSSO E A RETALHO; REPARAÇÃO DE VEÍCULOS AUTOMÓVEIS, MOTOCICLOS E DE BENS DE USO PESSOAL E DOMÉSTICO
A29: ='1'!A26 -> 住宿、餐廳、酒樓及同類所 | C29: 5 | D29: 0 | E29: 5 | F29: 0 | G29: 16 | H29: 0 | I29: 13 | J29: 0 | K29: 3 | L29: 0 | N29: =G29+H29-I29-J29-K29-L29 -> 0
A30: ='1'!A27 -> ALOJAMENTO, RESTAURANTES E SIMILARES
A32: ='1'!A29 -> 運輸、貯藏及通訊 | C32: 6 | D32: 0 | E32: 6 | F32: 0 | G32: 15 | H32: 0 | I32: 12 | J32: 0 | K32: 3 | L32: 0 | N32: =G32+H32-I32-J32-K32-L32 -> 0
A33: ='1'!A30 -> TRANSPORTES, ARMAZENAGEM E COMUNICAÇÕES
A35: ='1'!A32 -> 金融業務 | C35: 7 | D35: 0 | E35: 6 | F35: 1 | G35: 15 | H35: 3 | I35: 12 | J35: 1 | K35: 3 | L35: 2 | N35: =G35+H35-I35-J35-K35-L35 -> 0
A36: ='1'!A33 -> ACTIVIDADES FINANCEIRAS
A38: ='1'!A35 -> 不動產業務 | C38: 15 | D38: 0 | E38: 15 | F38: 0 | G38: 48 | H38: 0 | I38: 36 | J38: 1 | K38: 11 | L38: 0 | N38: =G38+H38-I38-J38-K38-L38 -> 0
A39: ='1'!A36 -> ACTIVIDADES IMOBILIÁRIAS
A41: ='1'!A38 -> 資訊及其相關的業務 | C41: 8 | D41: 0 | E41: 8 | F41: 0 | G41: 32 | H41: 1 | I41: 29 | J41: 0 | K41: 4 | L41: 0 | N41: =G41+H41-I41-J41-K41-L41 -> 0
A42: ='1'!A39 -> ACTIVIDADES INFORMÁTICAS E CONEXAS
A44: ='1'!A41 -> 主要向企業提供的其他服務 | C44: 11 | D44: 0 | E44: 11 | F44: 0 | G44: 31 | H44: 6 | I44: 28 | J44: 3 | K44: 2 | L44: 4 | N44: =G44+H44-I44-J44-K44-L44 -> 0
A45: ='1'!A42 -> OUTRAS ACTIVIDADES DE SERVIÇOS PRESTADOS PRINCIPALMENTE ÀS EMPRESAS
A47: ='1'!A44 -> 教育、醫療衛生及社會福利 | C47: 2 | D47: 0 | E47: 2 | F47: 0 | G47: 4 | H47: 0 | I47: 4 | J47: 0 | K47: 0 | L47: 0 | N47: =G47+H47-I47-J47-K47-L47 -> 0
A48: ='1'!A45 -> EDUCAÇÃO, SAÚDE E ACÇÃO SOCIAL
A50: ='1'!A47 -> 衛生、清潔及同類工作 | C50: 1 | D50: 0 | E50: 1 | F50: 0 | G50: 2 | H50: 0 | I50: 0 | J50: 0 | K50: 2 | L50: 0 | N50: =G50+H50-I50-J50-K50-L50 -> 0
A51: ='1'!A48 -> SANEAMENTO, HIGIENE PÚBLICA E ACTIVIDADES SIMILARES
A53: ='1'!A50 -> 康樂、文化、體育活動及其他服務 | C53: 5 | D53: 0 | E53: 5 | F53: 0 | G53: 10 | H53: 6 | I53: 6 | J53: 9 | K53: 1 | L53: 1 | N53: =G53+H53-I53-J53-K53-L53 -> -1
A54: ='1'!A51 -> ACTIVIDADES RECREATIVAS, CULTURAIS E DESPORTIVAS E OUTRAS ACTIVIDADES DE SERVIÇOS
A56: ='1'!A53 -> 其他未列明業務 | C56: 0 | D56: 0 | E56: 0 | F56: 0 | G56: 0 | H56: 0 | I56: 0 | J56: 0 | K56: 0 | L56: 0 | N56: =G56+H56-I56-J56-K56-L56 -> 0
...

Sheet 4
A2: 表 四 ： | B2: 按 行 業 分 類 統 計 修 章 公 司 數 目、 法 律 身 份、 股 東 身 份 及 地 址
B3: Nº DE SOCIEDADES ALTERADAS SEGUNDO A NATUREZA JURÍDICA E Nº DE SÓCIOS SEGUNDO A NATUREZA JURÍDICA
B4: E RESIDÊNCIA OU SEDE, POR RAMO DE ACTIVIDADE
M6: =A62 -> 二零零零年第一季
M7: =A63 -> 1º T/2000
G9: 股東數目
D10: 法律身份 | G10: NÚMERO DE SÓCIOS
A11: 行業 | C11: 公司數目 | D11: NATUREZA JURÍDICA DA | G11: 股東身份 | K11: 股東地址
A12: RAMO DE ACTIVIDADE | C12: NÚMERO DE | D12: SOCIEDADE | G12: NATUREZA JURÍDICA | K12: RESIDÊNCIA OU SEDE DOS SÓCIOS
A13: 澳門行業分類第一修訂版 | C13: SOCIEDADES | G13: DOS SÓCIOS
A14: C.A.M. REV. 1 | D14: 股份有限 | M14: 中國內地
D15: 公司 | E15: 有限公司 | F15: 其他公司 | G15: 個人 | I15: 公司 | K15: 澳門 | M15: INTERIOR | O15: 香港特區 | Q15: 其他
D16: SOCIEDADE | E16: SOCIEDADE | F16: OUTRA | G16: PESSOA | I16: SOCIEDADE | K16: MACAU | M16: DA | O16: RAEHK | Q16: OUTRA
D17: ANÓNIMA | E17: POR QUOTAS | F17: SOCIEDADE | G17: SINGULAR | M17: CHINA
A18: 1 | C18: 2 | D18: 3 | E18: 4 | F18: 5 | G18: 6 | I18: 7 | K18: 8 | M18: 9 | O18: 10 | Q18: 11 | T18: 若這行為"-"則正碓
A20: ='1'!A17 -> 製造業 | C20: 26 | D20: 0 | E20: 26 | F20: 0 | G20: 77 | I20: 8 | K20: 69 | M20: 2 | O20: 13 | Q20: 1 | T20: =G20+I20-K20-M20-O20-Q20 -> 0
A21: ='1'!A18 -> INDÚSTRIAS TRANSFORMADORAS
A23: ='1'!A20 -> 建築 | C23: 21 | D23: 0 | E23: 21 | F23: 0 | G23: 43 | I23: 13 | K23: 48 | M23: 2 | O23: 4 | Q23: 2 | T23: =G23+I23-K23-M23-O23-Q23 -> 0
A24: ='1'!A21 -> CONSTRUÇÃO
A26: ='1'!A23 -> 批發及零售業；機動車、摩托車、個人及家庭物品的維修 | C26: 53 | D26: 0 | E26: 53 | F26: 0 | G26: 140 | I26: 21 | K26: 115 | M26: 7 | O26: 19 | Q26: 20 | T26: =G26+I26-K26-M26-O26-Q26 -> 0
A27: ='1'!A24 -> COMÉRCIO POR GROSSO E A RETALHO; REPARAÇÃO DE VEÍCULOS AUTOMÓVEIS, MOTOCICLOS E DE BENS DE USO PESSOAL E DOMÉSTICO
A29: ='1'!A26 -> 住宿、餐廳、酒樓及同類所 | C29: 11 | D29: 0 | E29: 11 | F29: 0 | G29: 40 | I29: 5 | K29: 44 | M29: 0 | O29: 1 | Q29: 0 | T29: =G29+I29-K29-M29-O29-Q29 -> 0
A30: ='1'!A27 -> ALOJAMENTO, RESTAURANTES E SIMILARES
A32: ='1'!A29 -> 運輸、貯藏及通訊 | C32: 8 | D32: 0 | E32: 8 | F32: 0 | G32: 27 | I32: 1 | K32: 17 | M32: 0 | O32: 6 | Q32: 5 | T32: =G32+I32-K32-M32-O32-Q32 -> 0
A33: ='1'!A30 -> TRANSPORTES, ARMAZENAGEM E COMUNICAÇÕES
T34: =G34+I34-K34-M34-O34-Q34 -> 0
A35: ='1'!A32 -> 金融業務 | C35: 4 | D35: 0 | E35: 4 | F35: 0 | G35: 9 | I35: 0 | K35: 6 | M35: 0 | O35: 2 | Q35: 1
A36: ='1'!A33 -> ACTIVIDADES FINANCEIRAS
A38: ='1'!A35 -> 不動產業務 | C38: 34 | D38: 0 | E38: 34 | F38: 0 | G38: 116 | I38: 5 | K38: 93 | M38: 4 | O38: 24 | Q38: 0 | T38: =G38+I38-K38-M38-O38-Q38 -> 0
A39: ='1'!A36 -> ACTIVIDADES IMOBILIÁRIAS
A41: ='1'!A38 -> 資訊及其相關的業務 | C41: 1 | D41: 0 | E41: 1 | F41: 0 | G41: 5 | I41: 0 | K41: 3 | M41: 0 | O41: 2 | Q41: 0 | T41: =G41+I41-K41-M41-O41-Q41 -> 0
A42: ='1'!A39 -> ACTIVIDADES INFORMÁTICAS E CONEXAS
A44: ='1'!A41 -> 主要向企業提供的其他服務 | C44: 5 | D44: 0 | E44: 5 | F44: 0 | G44: 10 | I44: 1 | K44: 9 | M44: 1 | O44: 0 | Q44: 1 | T44: =G44+I44-K44-M44-O44-Q44 -> 0
A45: ='1'!A42 -> OUTRAS ACTIVIDADES DE SERVIÇOS PRESTADOS PRINCIPALMENTE ÀS EMPRESAS
A47: ='1'!A44 -> 教育、醫療衛生及社會福利 | C47: 0 | D47: 0 | E47: 0 | F47: 0 | G47: 0 | I47: 0 | K47: 0 | M47: 0 | O47: 0 | Q47: 0 | T47: =G47+I47-K47-M47-O47-Q47 -> 0
A48: ='1'!A45 -> EDUCAÇÃO, SAÚDE E ACÇÃO SOCIAL
A50: ='1'!A47 -> 衛生、清潔及同類工作 | C50: 2 | D50: 0 | E50: 2 | F50: 0 | G50: 5 | I50: 3 | K50: 7 | M50: 0 | O50: 0 | Q50: 1 | T50: =G50+I50-K50-M50-O50-Q50 -> 0
A51: ='1'!A48 -> SANEAMENTO, HIGIENE PÚBLICA E ACTIVIDADES SIMILARES
A53: ='1'!A50 -> 康樂、文化、體育活動及其他服務 | C53: 3 | D53: 1 | E53: 2 | F53: 0 | G53: 6 | I53: 6 | K53: 11 | M53: 0 | O53: 0 | Q53: 1
A54: ='1'!A51 -> ACTIVIDADES RECREATIVAS, CULTURAIS E DESPORTIVAS E OUTRAS ACTIVIDADES DE SERVIÇOS
...

Sheet 5
A2: 表 五： | B2: 按 行 業 分 類 統 計 解 散 公 司 數 目、 法 律 身 份 、股 東 身 份 及 地 址
B3: Nº DE SOCIEDADES DISSOLIVDAS SEGUNDO A NATUREZA JURÍDICA E Nº DE SÓCIOS SEGUNDO A NATUREZA JURÍDICA
B4: E RESIDÊNCIA OU SEDE, POR RAMO DE ACTIVIDADE
J6: =A63 -> 二零零零年第一季
J7: =A64 -> 1º T/2000
G9: 股東數目
D10: 法律身份 | G10: NÚMERO DE SÓCIOS
A11: 行業 | C11: 公司數目 | D11: NATUREZA JURÍDICA DA | G11: 股東身份 | I11: 股東地址
A12: RAMO DE ACTIVIDADE | C12: NÚMERO DE | D12: SOCIEDADE | G12: NATUREZA JURÍDICA | I12: RESIDÊNCIA OU SEDE DOS SÓCIOS
A13: 澳門行業分類第一修訂版 | C13: SOCIEDADES | G13: DOS SÓCIOS
A14: C.A.M. REV. 1 | D14: 股份有限 | J14: 中國內地
D15: 公司 | E15: 有限公司 | F15: 其他公司 | G15: 個人 | H15: 公司 | I15: 澳門 | J15: INTERIOR | K15: 香港特區 | L15: 其他
D16: SOCIEDADE | E16: SOCIEDADE | F16: OUTRA | G16: PESSOA | H16: SOCIEDADE | I16: MACAU | J16: DA | K16: RAEHK | L16: OUTRA
D17: ANÓNIMA | E17: POR QUOTAS | F17: SOCIEDADE | G17: SINGULAR | J17: CHINA
A18: 1 | C18: 2 | D18: 3 | E18: 4 | F18: 5 | G18: 6 | H18: 7 | I18: 8 | J18: 9 | K18: 10 | L18: 11 | N18: 若這行為"-"則正碓
A20: ='1'!A17 -> 製造業 | C20: 1 | D20: 0 | E20: 1 | F20: 0 | G20: 2 | H20: 0 | I20: 2 | J20: 0 | K20: 0 | L20: 0 | N20: =G20+H20-I20-J20-K20-L20 -> 0
A21: ='1'!A18 -> INDÚSTRIAS TRANSFORMADORAS
A23: ='1'!A20 -> 建築 | C23: 6 | D23: 0 | E23: 6 | F23: 0 | G23: 22 | H23: 5 | I23: 21 | J23: 0 | K23: 3 | L23: 3 | N23: =G23+H23-I23-J23-K23-L23 -> 0
A24: ='1'!A21 -> CONSTRUÇÃO
A26: ='1'!A23 -> 批發及零售業；機動車、摩托車、個人及家庭物品的維修 | C26: 10 | D26: 0 | E26: 10 | F26: 0 | G26: 27 | H26: 1 | I26: 23 | J26: 2 | K26: 3 | L26: 0 | N26: =G26+H26-I26-J26-K26-L26 -> 0
A27: ='1'!A24 -> COMÉRCIO POR GROSSO E A RETALHO; REPARAÇÃO DE VEÍCULOS AUTOMÓVEIS, MOTOCICLOS E DE BENS DE USO PESSOAL E DOMÉSTICO
A29: ='1'!A26 -> 住宿、餐廳、酒樓及同類所 | C29: 0 | D29: 0 | E29: 0 | F29: 0 | G29: 0 | H29: 0 | I29: 0 | J29: 0 | K29: 0 | L29: 0 | N29: =G29+H29-I29-J29-K29-L29 -> 0
A30: ='1'!A27 -> ALOJAMENTO, RESTAURANTES E SIMILARES
A32: ='1'!A29 -> 運輸、貯藏及通訊 | C32: 0 | D32: 0 | E32: 0 | F32: 0 | G32: 0 | H32: 0 | I32: 0 | J32: 0 | K32: 0 | L32: 0 | N32: =G32+H32-I32-J32-K32-L32 -> 0
A33: ='1'!A30 -> TRANSPORTES, ARMAZENAGEM E COMUNICAÇÕES
A35: ='1'!A32 -> 金融業務 | C35: 2 | D35: 0 | E35: 2 | F35: 0 | G35: 4 | H35: 0 | I35: 4 | J35: 0 | K35: 0 | L35: 0 | N35: =G35+H35-I35-J35-K35-L35 -> 0
A36: ='1'!A33 -> ACTIVIDADES FINANCEIRAS
A38: ='1'!A35 -> 不動產業務 | C38: 6 | D38: 0 | E38: 6 | F38: 0 | G38: 13 | H38: 3 | I38: 15 | J38: 0 | K38: 1 | L38: 0 | N38: =G38+H38-I38-J38-K38-L38 -> 0
A39: ='1'!A36 -> ACTIVIDADES IMOBILIÁRIAS
A41: ='1'!A38 -> 資訊及其相關的業務 | C41: 0 | D41: 0 | E41: 0 | F41: 0 | G41: 0 | H41: 0 | I41: 0 | J41: 0 | K41: 0 | L41: 0 | N41: =G41+H41-I41-J41-K41-L41 -> 0
A42: ='1'!A39 -> ACTIVIDADES INFORMÁTICAS E CONEXAS
A44: ='1'!A41 -> 主要向企業提供的其他服務 | C44: 4 | D44: 0 | E44: 4 | F44: 0 | G44: 6 | H44: 3 | I44: 7 | J44: 2 | K44: 0 | L44: 0 | N44: =G44+H44-I44-J44-K44-L44 -> 0
A45: ='1'!A42 -> OUTRAS ACTIVIDADES DE SERVIÇOS PRESTADOS PRINCIPALMENTE ÀS EMPRESAS
A47: ='1'!A44 -> 教育、醫療衛生及社會福利 | C47: 0 | D47: 0 | E47: 0 | F47: 0 | G47: 0 | H47: 0 | I47: 0 | J47: 0 | K47: 0 | L47: 0 | N47: =G47+H47-I47-J47-K47-L47 -> 0
A48: ='1'!A45 -> EDUCAÇÃO, SAÚDE E ACÇÃO SOCIAL
A50: ='1'!A47 -> 衛生、清潔及同類工作 | C50: 0 | D50: 0 | E50: 0 | F50: 0 | G50: 0 | H50: 0 | I50: 0 | J50: 0 | K50: 0 | L50: 0 | N50: =G50+H50-I50-J50-K50-L50 -> 0
A51: ='1'!A48 -> SANEAMENTO, HIGIENE PÚBLICA E ACTIVIDADES SIMILARES
A53: ='1'!A50 -> 康樂、文化、體育活動及其他服務 | C53: 0 | D53: 0 | E53: 0 | F53: 0 | G53: 0 | H53: 0 | I53: 0 | J53: 0 | K53: 0 | L53: 0 | N53: =G53+H53-I53-J53-K53-L53 -> 0
A54: ='1'!A51 -> ACTIVIDADES RECREATIVAS, CULTURAIS E DESPORTIVAS E OUTRAS ACTIVIDADES DE SERVIÇOS
A56: ='1'!A53 -> 其他未列明業務 | C56: 0 | D56: 0 | E56: 0 | F56: 0 | G56: 0 | H56: 0 | I56: 0 | J56: 0 | K56: 0 | L56: 0 | N56: =G56+H56-I56-J56-K56-L56 -> 0
...
